{"text_format":"1","workbook":"xlsx","n_sheets":4,"sheets":["注意","【入力例】","入力帳票","出力帳票"],"not_rendered":{"charts":0,"images":3,"macros":1,"external_links":0,"defined_names":5,"comments":2,"pivot_tables":0},"unopened":[],"bounds":{"document_bytes":16777216,"sheet_cells":100000,"rows_first":2000,"rows_last":500,"rows_between":2000,"halvings":0,"cell_chars":16384,"cell_head_chars":4096},"cells_cut":0,"cells_raw":0,"read":"whole","date_system":"1900"}

{"sheet":"注意","index":0,"n_rows":0,"n_cols":0,"rows_kept":0,"cut":false,"hidden":false,"merged":[]}

{"sheet":"【入力例】","index":1,"n_rows":13,"n_cols":8,"rows_kept":13,"cut":false,"hidden":false,"merged":[[0,6,0,7],[3,1,3,2],[3,5,3,7],[9,1,9,2],[10,1,10,2],[1,0,1,7],[5,4,5,5],[7,5,7,6],[22,1,22,2],[11,1,11,2],[12,1,12,2],[13,1,13,2],[14,1,14,2],[15,1,15,2],[16,1,16,2],[17,1,17,2],[18,1,18,2],[19,1,19,2],[20,1,20,2],[21,1,21,2],[32,1,32,2],[33,1,33,2],[34,1,34,2],[31,1,31,2],[23,1,23,2],[24,1,24,2],[25,1,25,2],[26,1,26,2],[27,1,27,2],[28,1,28,2],[29,1,29,2],[30,1,30,2]]}
[null,null,null,null,null,null,"2019-03-31"]
["請 求 内 訳 書"]
[]
["工事名","工事名を入力してください。",null,null,"会社名","会社名を入力してください。\n（会社印押印　可　）"]
[]
[null,null,null,null,"印刷範囲"]
[null,null,null,null,1,3]
[null,null,null,null,"請求合計",{"$f":"SUM($G$10:$G$81)","v":1273860},null,"円"]
[]
["月日","品名及び工事内容",null,"単位","数量","単価","金額","備考"]
["3/31","コンクリート打設",null,"ｍ3",92.385999999999996,10000,{"$f":"E11*F11","v":923860}]
["3/31","セメント",null,"袋",50,5000,{"$f":"E12*F12","v":250000}]
["3/31","カルバート設置",null,"箇所",1,100000,100000]

{"sheet":"入力帳票","index":2,"n_rows":10,"n_cols":8,"rows_kept":10,"cut":false,"hidden":false,"merged":[[0,6,0,7],[84,1,84,2],[82,1,82,2],[83,1,83,2],[80,1,80,2],[81,1,81,2],[78,1,78,2],[79,1,79,2],[76,1,76,2],[77,1,77,2],[74,1,74,2],[75,1,75,2],[72,1,72,2],[73,1,73,2],[70,1,70,2],[71,1,71,2],[68,1,68,2],[69,1,69,2],[66,1,66,2],[67,1,67,2],[64,1,64,2],[65,1,65,2],[62,1,62,2],[63,1,63,2],[60,1,60,2],[61,1,61,2],[58,1,58,2],[59,1,59,2],[56,1,56,2],[57,1,57,2],[54,1,54,2],[55,1,55,2],[52,1,52,2],[53,1,53,2],[44,1,44,2],[45,1,45,2],[43,1,43,2],[41,1,41,2],[42,1,42,2],[50,1,50,2],[51,1,51,2],[49,1,49,2],[21,1,21,2],[22,1,22,2],[29,1,29,2],[30,1,30,2],[38,1,38,2],[31,1,31,2],[32,1,32,2],[33,1,33,2],[39,1,39,2],[40,1,40,2],[48,1,48,2],[46,1,46,2],[47,1,47,2],[1,0,1,7],[35,1,35,2],[36,1,36,2],[37,1,37,2],[13,1,13,2],[23,1,23,2],[24,1,24,2],[25,1,25,2],[26,1,26,2],[27,1,27,2],[28,1,28,2],[34,1,34,2],[17,1,17,2],[18,1,18,2],[19,1,19,2],[20,1,20,2],[5,4,5,5],[14,1,14,2],[15,1,15,2],[16,1,16,2],[3,1,3,2],[9,1,9,2],[10,1,10,2],[11,1,11,2],[12,1,12,2],[3,5,3,7],[7,5,7,6]]}
[null,null,null,null,null,null,"年　　　月　　　日"]
["請 求 内 訳 書"]
[]
["工事名",null,null,null,"会社名"]
[]
[null,null,null,null,"印刷範囲"]
[null,null,null,null,1]
[null,null,null,null,"請求合計",{"$f":"SUM($G$11:$G$85)","v":0},null,"円"]
[]
["月日","品名及び工事内容",null,"単位","数量","単価","金額","備考"]

{"sheet":"出力帳票","index":3,"n_rows":105,"n_cols":9,"rows_kept":105,"cut":false,"hidden":false,"merged":[[7,5,7,6],[0,6,0,7],[1,0,1,7],[3,1,3,2],[3,5,3,7],[6,5,6,6],[20,1,20,2],[9,1,9,2],[10,1,10,2],[11,1,11,2],[12,1,12,2],[13,1,13,2],[14,1,14,2],[15,1,15,2],[16,1,16,2],[17,1,17,2],[18,1,18,2],[19,1,19,2],[32,1,32,2],[21,1,21,2],[22,1,22,2],[23,1,23,2],[24,1,24,2],[25,1,25,2],[26,1,26,2],[27,1,27,2],[28,1,28,2],[29,1,29,2],[30,1,30,2],[31,1,31,2],[94,1,94,2],[33,1,33,2],[34,1,34,2],[85,1,85,2],[86,1,86,2],[87,1,87,2],[88,1,88,2],[44,1,44,2],[45,1,45,2],[46,1,46,2],[47,1,47,2],[59,1,59,2],[48,1,48,2],[49,1,49,2],[50,1,50,2],[51,1,51,2],[42,5,42,6],[101,1,101,2],[102,1,102,2],[103,1,103,2],[104,1,104,2],[95,1,95,2],[96,1,96,2],[97,1,97,2],[98,1,98,2],[99,1,99,2],[100,1,100,2],[89,1,89,2],[90,1,90,2],[91,1,91,2],[92,1,92,2],[93,1,93,2],[35,6,35,7],[36,0,36,7],[38,1,38,2],[38,5,38,7],[41,5,41,6],[52,1,52,2],[53,1,53,2],[54,1,54,2],[55,1,55,2],[56,1,56,2],[57,1,57,2],[58,1,58,2],[71,0,71,7],[60,1,60,2],[61,1,61,2],[62,1,62,2],[63,1,63,2],[64,1,64,2],[65,1,65,2],[66,1,66,2],[67,1,67,2],[68,1,68,2],[69,1,69,2],[70,6,70,7],[73,5,73,7],[76,5,76,6],[77,5,77,6],[79,1,79,2],[80,1,80,2],[81,1,81,2],[82,1,82,2],[83,1,83,2],[84,1,84,2],[73,1,73,2]]}
[null,null,null,null,null,null,{"$f":"入力帳票!G1","v":"年　　　月　　　日"},null,{"$f":"入力帳票!$F$7","v":0}]
["請 求 内 訳 書"]
[]
["工事名",{"$f":"入力帳票!B4","v":0},null,null,"会社名",{"$f":"入力帳票!F4","v":0}]
[]
[]
[null,null,null,null,"ページ計",{"$f":"SUM(入力帳票!$G$11:$G$35)","v":0},null,"円"]
[null,null,null,null,"請求合計",{"$f":"IF(入力帳票!$F$8=\"\",\"\",IF(SUM(G11:G35)<=0,\"－\",入力帳票!$F$8))","v":"－"},null,"円"]
[]
["月日","品名及び工事内容",null,"単位","数量","単価","金額","備考"]
[{"$f":"入力帳票!A11","v":"00:00:00"},{"$f":"入力帳票!B11","v":0},null,{"$f":"入力帳票!D11","v":0},{"$f":"入力帳票!E11","v":0},{"$f":"入力帳票!F11","v":0},{"$f":"入力帳票!G11","v":0},{"$f":"入力帳票!H11","v":0}]
[{"$f":"入力帳票!A12","v":"00:00:00"},{"$f":"入力帳票!B12","v":0},null,{"$f":"入力帳票!D12","v":0},{"$f":"入力帳票!E12","v":0},{"$f":"入力帳票!F12","v":0},{"$f":"入力帳票!G12","v":0},{"$f":"入力帳票!H12","v":0}]
[{"$f":"入力帳票!A13","v":"00:00:00"},{"$f":"入力帳票!B13","v":0},null,{"$f":"入力帳票!D13","v":0},{"$f":"入力帳票!E13","v":0},{"$f":"入力帳票!F13","v":0},{"$f":"入力帳票!G13","v":0},{"$f":"入力帳票!H13","v":0}]
[{"$f":"入力帳票!A14","v":"00:00:00"},{"$f":"入力帳票!B14","v":0},null,{"$f":"入力帳票!D14","v":0},{"$f":"入力帳票!E14","v":0},{"$f":"入力帳票!F14","v":0},{"$f":"入力帳票!G14","v":0},{"$f":"入力帳票!H14","v":0}]
[{"$f":"入力帳票!A15","v":"00:00:00"},{"$f":"入力帳票!B15","v":0},null,{"$f":"入力帳票!D15","v":0},{"$f":"入力帳票!E15","v":0},{"$f":"入力帳票!F15","v":0},{"$f":"入力帳票!G15","v":0},{"$f":"入力帳票!H15","v":0}]
[{"$f":"入力帳票!A16","v":"00:00:00"},{"$f":"入力帳票!B16","v":0},null,{"$f":"入力帳票!D16","v":0},{"$f":"入力帳票!E16","v":0},{"$f":"入力帳票!F16","v":0},{"$f":"入力帳票!G16","v":0},{"$f":"入力帳票!H16","v":0}]
[{"$f":"入力帳票!A17","v":"00:00:00"},{"$f":"入力帳票!B17","v":0},null,{"$f":"入力帳票!D17","v":0},{"$f":"入力帳票!E17","v":0},{"$f":"入力帳票!F17","v":0},{"$f":"入力帳票!G17","v":0},{"$f":"入力帳票!H17","v":0}]
[{"$f":"入力帳票!A18","v":"00:00:00"},{"$f":"入力帳票!B18","v":0},null,{"$f":"入力帳票!D18","v":0},{"$f":"入力帳票!E18","v":0},{"$f":"入力帳票!F18","v":0},{"$f":"入力帳票!G18","v":0},{"$f":"入力帳票!H18","v":0}]
[{"$f":"入力帳票!A19","v":"00:00:00"},{"$f":"入力帳票!B19","v":0},null,{"$f":"入力帳票!D19","v":0},{"$f":"入力帳票!E19","v":0},{"$f":"入力帳票!F19","v":0},{"$f":"入力帳票!G19","v":0},{"$f":"入力帳票!H19","v":0}]
[{"$f":"入力帳票!A20","v":"00:00:00"},{"$f":"入力帳票!B20","v":0},null,{"$f":"入力帳票!D20","v":0},{"$f":"入力帳票!E20","v":0},{"$f":"入力帳票!F20","v":0},{"$f":"入力帳票!G20","v":0},{"$f":"入力帳票!H20","v":0}]
[{"$f":"入力帳票!A21","v":"00:00:00"},{"$f":"入力帳票!B21","v":0},null,{"$f":"入力帳票!D21","v":0},{"$f":"入力帳票!E21","v":0},{"$f":"入力帳票!F21","v":0},{"$f":"入力帳票!G21","v":0},{"$f":"入力帳票!H21","v":0}]
[{"$f":"入力帳票!A22","v":"00:00:00"},{"$f":"入力帳票!B22","v":0},null,{"$f":"入力帳票!D22","v":0},{"$f":"入力帳票!E22","v":0},{"$f":"入力帳票!F22","v":0},{"$f":"入力帳票!G22","v":0},{"$f":"入力帳票!H22","v":0}]
[{"$f":"入力帳票!A23","v":"00:00:00"},{"$f":"入力帳票!B23","v":0},null,{"$f":"入力帳票!D23","v":0},{"$f":"入力帳票!E23","v":0},{"$f":"入力帳票!F23","v":0},{"$f":"入力帳票!G23","v":0},{"$f":"入力帳票!H23","v":0}]
[{"$f":"入力帳票!A24","v":"00:00:00"},{"$f":"入力帳票!B24","v":0},null,{"$f":"入力帳票!D24","v":0},{"$f":"入力帳票!E24","v":0},{"$f":"入力帳票!F24","v":0},{"$f":"入力帳票!G24","v":0},{"$f":"入力帳票!H24","v":0}]
[{"$f":"入力帳票!A25","v":"00:00:00"},{"$f":"入力帳票!B25","v":0},null,{"$f":"入力帳票!D25","v":0},{"$f":"入力帳票!E25","v":0},{"$f":"入力帳票!F25","v":0},{"$f":"入力帳票!G25","v":0},{"$f":"入力帳票!H25","v":0}]
[{"$f":"入力帳票!A26","v":"00:00:00"},{"$f":"入力帳票!B26","v":0},null,{"$f":"入力帳票!D26","v":0},{"$f":"入力帳票!E26","v":0},{"$f":"入力帳票!F26","v":0},{"$f":"入力帳票!G26","v":0},{"$f":"入力帳票!H26","v":0}]
[{"$f":"入力帳票!A27","v":"00:00:00"},{"$f":"入力帳票!B27","v":0},null,{"$f":"入力帳票!D27","v":0},{"$f":"入力帳票!E27","v":0},{"$f":"入力帳票!F27","v":0},{"$f":"入力帳票!G27","v":0},{"$f":"入力帳票!H27","v":0}]
[{"$f":"入力帳票!A28","v":"00:00:00"},{"$f":"入力帳票!B28","v":0},null,{"$f":"入力帳票!D28","v":0},{"$f":"入力帳票!E28","v":0},{"$f":"入力帳票!F28","v":0},{"$f":"入力帳票!G28","v":0},{"$f":"入力帳票!H28","v":0}]
[{"$f":"入力帳票!A29","v":"00:00:00"},{"$f":"入力帳票!B29","v":0},null,{"$f":"入力帳票!D29","v":0},{"$f":"入力帳票!E29","v":0},{"$f":"入力帳票!F29","v":0},{"$f":"入力帳票!G29","v":0},{"$f":"入力帳票!H29","v":0}]
[{"$f":"入力帳票!A30","v":"00:00:00"},{"$f":"入力帳票!B30","v":0},null,{"$f":"入力帳票!D30","v":0},{"$f":"入力帳票!E30","v":0},{"$f":"入力帳票!F30","v":0},{"$f":"入力帳票!G30","v":0},{"$f":"入力帳票!H30","v":0}]
[{"$f":"入力帳票!A31","v":"00:00:00"},{"$f":"入力帳票!B31","v":0},null,{"$f":"入力帳票!D31","v":0},{"$f":"入力帳票!E31","v":0},{"$f":"入力帳票!F31","v":0},{"$f":"入力帳票!G31","v":0},{"$f":"入力帳票!H31","v":0}]
[{"$f":"入力帳票!A32","v":"00:00:00"},{"$f":"入力帳票!B32","v":0},null,{"$f":"入力帳票!D32","v":0},{"$f":"入力帳票!E32","v":0},{"$f":"入力帳票!F32","v":0},{"$f":"入力帳票!G32","v":0},{"$f":"入力帳票!H32","v":0}]
[{"$f":"入力帳票!A33","v":"00:00:00"},{"$f":"入力帳票!B33","v":0},null,{"$f":"入力帳票!D33","v":0},{"$f":"入力帳票!E33","v":0},{"$f":"入力帳票!F33","v":0},{"$f":"入力帳票!G33","v":0},{"$f":"入力帳票!H33","v":0}]
[{"$f":"入力帳票!A34","v":"00:00:00"},{"$f":"入力帳票!B34","v":0},null,{"$f":"入力帳票!D34","v":0},{"$f":"入力帳票!E34","v":0},{"$f":"入力帳票!F34","v":0},{"$f":"入力帳票!G34","v":0},{"$f":"入力帳票!H34","v":0}]
[{"$f":"入力帳票!A35","v":"00:00:00"},{"$f":"入力帳票!B35","v":0},null,{"$f":"入力帳票!D35","v":0},{"$f":"入力帳票!E35","v":0},{"$f":"入力帳票!F35","v":0},{"$f":"入力帳票!G35","v":0},{"$f":"入力帳票!H35","v":0}]
[null,null,null,null,null,null,{"$f":"G1","v":"年　　　月　　　日"}]
["請 求 内 訳 書"]
[]
["工事名",{"$f":"B4","v":0},null,null,"会社名",{"$f":"F4","v":0}]
[]
[]
[null,null,null,null,"ページ計",{"$f":"SUM(入力帳票!$G$36:$G$60)","v":0},null,"円"]
[null,null,null,null,"請求合計",{"$f":"IF(入力帳票!$F$8=\"\",\"\",IF(SUM(G46:G70)<=0,\"－\",入力帳票!$F$8))","v":"－"},null,"円"]
[]
["月日","品名及び工事内容",null,"単位","数量","単価","金額","備考"]
[{"$f":"入力帳票!A36","v":"00:00:00"},{"$f":"入力帳票!B36","v":0},null,{"$f":"入力帳票!D36","v":0},{"$f":"入力帳票!E36","v":0},{"$f":"入力帳票!F36","v":0},{"$f":"入力帳票!G36","v":0},{"$f":"入力帳票!H36","v":0}]
[{"$f":"入力帳票!A37","v":"00:00:00"},{"$f":"入力帳票!B37","v":0},null,{"$f":"入力帳票!D37","v":0},{"$f":"入力帳票!E37","v":0},{"$f":"入力帳票!F37","v":0},{"$f":"入力帳票!G37","v":0},{"$f":"入力帳票!H37","v":0}]
[{"$f":"入力帳票!A38","v":"00:00:00"},{"$f":"入力帳票!B38","v":0},null,{"$f":"入力帳票!D38","v":0},{"$f":"入力帳票!E38","v":0},{"$f":"入力帳票!F38","v":0},{"$f":"入力帳票!G38","v":0},{"$f":"入力帳票!H38","v":0}]
[{"$f":"入力帳票!A39","v":"00:00:00"},{"$f":"入力帳票!B39","v":0},null,{"$f":"入力帳票!D39","v":0},{"$f":"入力帳票!E39","v":0},{"$f":"入力帳票!F39","v":0},{"$f":"入力帳票!G39","v":0},{"$f":"入力帳票!H39","v":0}]
[{"$f":"入力帳票!A40","v":"00:00:00"},{"$f":"入力帳票!B40","v":0},null,{"$f":"入力帳票!D40","v":0},{"$f":"入力帳票!E40","v":0},{"$f":"入力帳票!F40","v":0},{"$f":"入力帳票!G40","v":0},{"$f":"入力帳票!H40","v":0}]
[{"$f":"入力帳票!A41","v":"00:00:00"},{"$f":"入力帳票!B41","v":0},null,{"$f":"入力帳票!D41","v":0},{"$f":"入力帳票!E41","v":0},{"$f":"入力帳票!F41","v":0},{"$f":"入力帳票!G41","v":0},{"$f":"入力帳票!H41","v":0}]
[{"$f":"入力帳票!A42","v":"00:00:00"},{"$f":"入力帳票!B42","v":0},null,{"$f":"入力帳票!D42","v":0},{"$f":"入力帳票!E42","v":0},{"$f":"入力帳票!F42","v":0},{"$f":"入力帳票!G42","v":0},{"$f":"入力帳票!H42","v":0}]
[{"$f":"入力帳票!A43","v":"00:00:00"},{"$f":"入力帳票!B43","v":0},null,{"$f":"入力帳票!D43","v":0},{"$f":"入力帳票!E43","v":0},{"$f":"入力帳票!F43","v":0},{"$f":"入力帳票!G43","v":0},{"$f":"入力帳票!H43","v":0}]
[{"$f":"入力帳票!A44","v":"00:00:00"},{"$f":"入力帳票!B44","v":0},null,{"$f":"入力帳票!D44","v":0},{"$f":"入力帳票!E44","v":0},{"$f":"入力帳票!F44","v":0},{"$f":"入力帳票!G44","v":0},{"$f":"入力帳票!H44","v":0}]
[{"$f":"入力帳票!A45","v":"00:00:00"},{"$f":"入力帳票!B45","v":0},null,{"$f":"入力帳票!D45","v":0},{"$f":"入力帳票!E45","v":0},{"$f":"入力帳票!F45","v":0},{"$f":"入力帳票!G45","v":0},{"$f":"入力帳票!H45","v":0}]
[{"$f":"入力帳票!A46","v":"00:00:00"},{"$f":"入力帳票!B46","v":0},null,{"$f":"入力帳票!D46","v":0},{"$f":"入力帳票!E46","v":0},{"$f":"入力帳票!F46","v":0},{"$f":"入力帳票!G46","v":0},{"$f":"入力帳票!H46","v":0}]
[{"$f":"入力帳票!A47","v":"00:00:00"},{"$f":"入力帳票!B47","v":0},null,{"$f":"入力帳票!D47","v":0},{"$f":"入力帳票!E47","v":0},{"$f":"入力帳票!F47","v":0},{"$f":"入力帳票!G47","v":0},{"$f":"入力帳票!H47","v":0}]
[{"$f":"入力帳票!A48","v":"00:00:00"},{"$f":"入力帳票!B48","v":0},null,{"$f":"入力帳票!D48","v":0},{"$f":"入力帳票!E48","v":0},{"$f":"入力帳票!F48","v":0},{"$f":"入力帳票!G48","v":0},{"$f":"入力帳票!H48","v":0}]
[{"$f":"入力帳票!A49","v":"00:00:00"},{"$f":"入力帳票!B49","v":0},null,{"$f":"入力帳票!D49","v":0},{"$f":"入力帳票!E49","v":0},{"$f":"入力帳票!F49","v":0},{"$f":"入力帳票!G49","v":0},{"$f":"入力帳票!H49","v":0}]
[{"$f":"入力帳票!A50","v":"00:00:00"},{"$f":"入力帳票!B50","v":0},null,{"$f":"入力帳票!D50","v":0},{"$f":"入力帳票!E50","v":0},{"$f":"入力帳票!F50","v":0},{"$f":"入力帳票!G50","v":0},{"$f":"入力帳票!H50","v":0}]
[{"$f":"入力帳票!A51","v":"00:00:00"},{"$f":"入力帳票!B51","v":0},null,{"$f":"入力帳票!D51","v":0},{"$f":"入力帳票!E51","v":0},{"$f":"入力帳票!F51","v":0},{"$f":"入力帳票!G51","v":0},{"$f":"入力帳票!H51","v":0}]
[{"$f":"入力帳票!A52","v":"00:00:00"},{"$f":"入力帳票!B52","v":0},null,{"$f":"入力帳票!D52","v":0},{"$f":"入力帳票!E52","v":0},{"$f":"入力帳票!F52","v":0},{"$f":"入力帳票!G52","v":0},{"$f":"入力帳票!H52","v":0}]
[{"$f":"入力帳票!A53","v":"00:00:00"},{"$f":"入力帳票!B53","v":0},null,{"$f":"入力帳票!D53","v":0},{"$f":"入力帳票!E53","v":0},{"$f":"入力帳票!F53","v":0},{"$f":"入力帳票!G53","v":0},{"$f":"入力帳票!H53","v":0}]
[{"$f":"入力帳票!A54","v":"00:00:00"},{"$f":"入力帳票!B54","v":0},null,{"$f":"入力帳票!D54","v":0},{"$f":"入力帳票!E54","v":0},{"$f":"入力帳票!F54","v":0},{"$f":"入力帳票!G54","v":0},{"$f":"入力帳票!H54","v":0}]
[{"$f":"入力帳票!A55","v":"00:00:00"},{"$f":"入力帳票!B55","v":0},null,{"$f":"入力帳票!D55","v":0},{"$f":"入力帳票!E55","v":0},{"$f":"入力帳票!F55","v":0},{"$f":"入力帳票!G55","v":0},{"$f":"入力帳票!H55","v":0}]
[{"$f":"入力帳票!A56","v":"00:00:00"},{"$f":"入力帳票!B56","v":0},null,{"$f":"入力帳票!D56","v":0},{"$f":"入力帳票!E56","v":0},{"$f":"入力帳票!F56","v":0},{"$f":"入力帳票!G56","v":0},{"$f":"入力帳票!H56","v":0}]
[{"$f":"入力帳票!A57","v":"00:00:00"},{"$f":"入力帳票!B57","v":0},null,{"$f":"入力帳票!D57","v":0},{"$f":"入力帳票!E57","v":0},{"$f":"入力帳票!F57","v":0},{"$f":"入力帳票!G57","v":0},{"$f":"入力帳票!H57","v":0}]
[{"$f":"入力帳票!A58","v":"00:00:00"},{"$f":"入力帳票!B58","v":0},null,{"$f":"入力帳票!D58","v":0},{"$f":"入力帳票!E58","v":0},{"$f":"入力帳票!F58","v":0},{"$f":"入力帳票!G58","v":0},{"$f":"入力帳票!H58","v":0}]
[{"$f":"入力帳票!A59","v":"00:00:00"},{"$f":"入力帳票!B59","v":0},null,{"$f":"入力帳票!D59","v":0},{"$f":"入力帳票!E59","v":0},{"$f":"入力帳票!F59","v":0},{"$f":"入力帳票!G59","v":0},{"$f":"入力帳票!H59","v":0}]
[{"$f":"入力帳票!A60","v":"00:00:00"},{"$f":"入力帳票!B60","v":0},null,{"$f":"入力帳票!D60","v":0},{"$f":"入力帳票!E60","v":0},{"$f":"入力帳票!F60","v":0},{"$f":"入力帳票!G60","v":0},{"$f":"入力帳票!H60","v":0}]
[null,null,null,null,null,null,{"$f":"G1","v":"年　　　月　　　日"}]
["請 求 内 訳 書"]
[]
["工事名",{"$f":"B4","v":0},null,null,"会社名",{"$f":"F4","v":0}]
[]
[]
[null,null,null,null,"ページ計",{"$f":"SUM(入力帳票!$G$61:$G$85)","v":0},null,"円"]
[null,null,null,null,"請求合計",{"$f":"IF(入力帳票!$F$8=\"\",\"\",IF(SUM(G81:G105)<=0,\"－\",入力帳票!$F$8))","v":"－"},null,"円"]
[]
["月日","品名及び工事内容",null,"単位","数量","単価","金額","備考"]
[{"$f":"入力帳票!A61","v":"00:00:00"},{"$f":"入力帳票!B61","v":0},null,{"$f":"入力帳票!D61","v":0},{"$f":"入力帳票!E61","v":0},{"$f":"入力帳票!F61","v":0},{"$f":"入力帳票!G61","v":0},{"$f":"入力帳票!H61","v":0}]
[{"$f":"入力帳票!A62","v":"00:00:00"},{"$f":"入力帳票!B62","v":0},null,{"$f":"入力帳票!D62","v":0},{"$f":"入力帳票!E62","v":0},{"$f":"入力帳票!F62","v":0},{"$f":"入力帳票!G62","v":0},{"$f":"入力帳票!H62","v":0}]
[{"$f":"入力帳票!A63","v":"00:00:00"},{"$f":"入力帳票!B63","v":0},null,{"$f":"入力帳票!D63","v":0},{"$f":"入力帳票!E63","v":0},{"$f":"入力帳票!F63","v":0},{"$f":"入力帳票!G63","v":0},{"$f":"入力帳票!H63","v":0}]
[{"$f":"入力帳票!A64","v":"00:00:00"},{"$f":"入力帳票!B64","v":0},null,{"$f":"入力帳票!D64","v":0},{"$f":"入力帳票!E64","v":0},{"$f":"入力帳票!F64","v":0},{"$f":"入力帳票!G64","v":0},{"$f":"入力帳票!H64","v":0}]
[{"$f":"入力帳票!A65","v":"00:00:00"},{"$f":"入力帳票!B65","v":0},null,{"$f":"入力帳票!D65","v":0},{"$f":"入力帳票!E65","v":0},{"$f":"入力帳票!F65","v":0},{"$f":"入力帳票!G65","v":0},{"$f":"入力帳票!H65","v":0}]
[{"$f":"入力帳票!A66","v":"00:00:00"},{"$f":"入力帳票!B66","v":0},null,{"$f":"入力帳票!D66","v":0},{"$f":"入力帳票!E66","v":0},{"$f":"入力帳票!F66","v":0},{"$f":"入力帳票!G66","v":0},{"$f":"入力帳票!H66","v":0}]
[{"$f":"入力帳票!A67","v":"00:00:00"},{"$f":"入力帳票!B67","v":0},null,{"$f":"入力帳票!D67","v":0},{"$f":"入力帳票!E67","v":0},{"$f":"入力帳票!F67","v":0},{"$f":"入力帳票!G67","v":0},{"$f":"入力帳票!H67","v":0}]
[{"$f":"入力帳票!A68","v":"00:00:00"},{"$f":"入力帳票!B68","v":0},null,{"$f":"入力帳票!D68","v":0},{"$f":"入力帳票!E68","v":0},{"$f":"入力帳票!F68","v":0},{"$f":"入力帳票!G68","v":0},{"$f":"入力帳票!H68","v":0}]
[{"$f":"入力帳票!A69","v":"00:00:00"},{"$f":"入力帳票!B69","v":0},null,{"$f":"入力帳票!D69","v":0},{"$f":"入力帳票!E69","v":0},{"$f":"入力帳票!F69","v":0},{"$f":"入力帳票!G69","v":0},{"$f":"入力帳票!H69","v":0}]
[{"$f":"入力帳票!A70","v":"00:00:00"},{"$f":"入力帳票!B70","v":0},null,{"$f":"入力帳票!D70","v":0},{"$f":"入力帳票!E70","v":0},{"$f":"入力帳票!F70","v":0},{"$f":"入力帳票!G70","v":0},{"$f":"入力帳票!H70","v":0}]
[{"$f":"入力帳票!A71","v":"00:00:00"},{"$f":"入力帳票!B71","v":0},null,{"$f":"入力帳票!D71","v":0},{"$f":"入力帳票!E71","v":0},{"$f":"入力帳票!F71","v":0},{"$f":"入力帳票!G71","v":0},{"$f":"入力帳票!H71","v":0}]
[{"$f":"入力帳票!A72","v":"00:00:00"},{"$f":"入力帳票!B72","v":0},null,{"$f":"入力帳票!D72","v":0},{"$f":"入力帳票!E72","v":0},{"$f":"入力帳票!F72","v":0},{"$f":"入力帳票!G72","v":0},{"$f":"入力帳票!H72","v":0}]
[{"$f":"入力帳票!A73","v":"00:00:00"},{"$f":"入力帳票!B73","v":0},null,{"$f":"入力帳票!D73","v":0},{"$f":"入力帳票!E73","v":0},{"$f":"入力帳票!F73","v":0},{"$f":"入力帳票!G73","v":0},{"$f":"入力帳票!H73","v":0}]
[{"$f":"入力帳票!A74","v":"00:00:00"},{"$f":"入力帳票!B74","v":0},null,{"$f":"入力帳票!D74","v":0},{"$f":"入力帳票!E74","v":0},{"$f":"入力帳票!F74","v":0},{"$f":"入力帳票!G74","v":0},{"$f":"入力帳票!H74","v":0}]
[{"$f":"入力帳票!A75","v":"00:00:00"},{"$f":"入力帳票!B75","v":0},null,{"$f":"入力帳票!D75","v":0},{"$f":"入力帳票!E75","v":0},{"$f":"入力帳票!F75","v":0},{"$f":"入力帳票!G75","v":0},{"$f":"入力帳票!H75","v":0}]
[{"$f":"入力帳票!A76","v":"00:00:00"},{"$f":"入力帳票!B76","v":0},null,{"$f":"入力帳票!D76","v":0},{"$f":"入力帳票!E76","v":0},{"$f":"入力帳票!F76","v":0},{"$f":"入力帳票!G76","v":0},{"$f":"入力帳票!H76","v":0}]
[{"$f":"入力帳票!A77","v":"00:00:00"},{"$f":"入力帳票!B77","v":0},null,{"$f":"入力帳票!D77","v":0},{"$f":"入力帳票!E77","v":0},{"$f":"入力帳票!F77","v":0},{"$f":"入力帳票!G77","v":0},{"$f":"入力帳票!H77","v":0}]
[{"$f":"入力帳票!A78","v":"00:00:00"},{"$f":"入力帳票!B78","v":0},null,{"$f":"入力帳票!D78","v":0},{"$f":"入力帳票!E78","v":0},{"$f":"入力帳票!F78","v":0},{"$f":"入力帳票!G78","v":0},{"$f":"入力帳票!H78","v":0}]
[{"$f":"入力帳票!A79","v":"00:00:00"},{"$f":"入力帳票!B79","v":0},null,{"$f":"入力帳票!D79","v":0},{"$f":"入力帳票!E79","v":0},{"$f":"入力帳票!F79","v":0},{"$f":"入力帳票!G79","v":0},{"$f":"入力帳票!H79","v":0}]
[{"$f":"入力帳票!A80","v":"00:00:00"},{"$f":"入力帳票!B80","v":0},null,{"$f":"入力帳票!D80","v":0},{"$f":"入力帳票!E80","v":0},{"$f":"入力帳票!F80","v":0},{"$f":"入力帳票!G80","v":0},{"$f":"入力帳票!H80","v":0}]
[{"$f":"入力帳票!A81","v":"00:00:00"},{"$f":"入力帳票!B81","v":0},null,{"$f":"入力帳票!D81","v":0},{"$f":"入力帳票!E81","v":0},{"$f":"入力帳票!F81","v":0},{"$f":"入力帳票!G81","v":0},{"$f":"入力帳票!H81","v":0}]
[{"$f":"入力帳票!A82","v":"00:00:00"},{"$f":"入力帳票!B82","v":0},null,{"$f":"入力帳票!D82","v":0},{"$f":"入力帳票!E82","v":0},{"$f":"入力帳票!F82","v":0},{"$f":"入力帳票!G82","v":0},{"$f":"入力帳票!H82","v":0}]
[{"$f":"入力帳票!A83","v":"00:00:00"},{"$f":"入力帳票!B83","v":0},null,{"$f":"入力帳票!D83","v":0},{"$f":"入力帳票!E83","v":0},{"$f":"入力帳票!F83","v":0},{"$f":"入力帳票!G83","v":0},{"$f":"入力帳票!H83","v":0}]
[{"$f":"入力帳票!A84","v":"00:00:00"},{"$f":"入力帳票!B84","v":0},null,{"$f":"入力帳票!D84","v":0},{"$f":"入力帳票!E84","v":0},{"$f":"入力帳票!F84","v":0},{"$f":"入力帳票!G84","v":0},{"$f":"入力帳票!H84","v":0}]
[{"$f":"入力帳票!A85","v":"00:00:00"},{"$f":"入力帳票!B85","v":0},null,{"$f":"入力帳票!D85","v":0},{"$f":"入力帳票!E85","v":0},{"$f":"入力帳票!F85","v":0},{"$f":"入力帳票!G85","v":0},{"$f":"入力帳票!H85","v":0}]